BEGIN:VCALENDAR
VERSION:2.0
PRODID:-//Top Producer Support - ECPv6.15.20//NONSGML v1.0//EN
CALSCALE:GREGORIAN
METHOD:PUBLISH
X-WR-CALNAME:Top Producer Support
X-ORIGINAL-URL:https://support.topproducer.com
X-WR-CALDESC:Events for Top Producer Support
REFRESH-INTERVAL;VALUE=DURATION:PT1H
X-Robots-Tag:noindex
X-PUBLISHED-TTL:PT1H
BEGIN:VTIMEZONE
TZID:America/Vancouver
BEGIN:DAYLIGHT
TZOFFSETFROM:-0800
TZOFFSETTO:-0700
TZNAME:PDT
DTSTART:20230312T100000
END:DAYLIGHT
BEGIN:STANDARD
TZOFFSETFROM:-0700
TZOFFSETTO:-0800
TZNAME:PST
DTSTART:20231105T090000
END:STANDARD
BEGIN:DAYLIGHT
TZOFFSETFROM:-0800
TZOFFSETTO:-0700
TZNAME:PDT
DTSTART:20240310T100000
END:DAYLIGHT
BEGIN:STANDARD
TZOFFSETFROM:-0700
TZOFFSETTO:-0800
TZNAME:PST
DTSTART:20241103T090000
END:STANDARD
BEGIN:DAYLIGHT
TZOFFSETFROM:-0800
TZOFFSETTO:-0700
TZNAME:PDT
DTSTART:20250309T100000
END:DAYLIGHT
BEGIN:STANDARD
TZOFFSETFROM:-0700
TZOFFSETTO:-0800
TZNAME:PST
DTSTART:20251102T090000
END:STANDARD
END:VTIMEZONE
BEGIN:VEVENT
DTSTART;TZID=America/Vancouver:20240313T110000
DTEND;TZID=America/Vancouver:20240313T120000
DTSTAMP:20260425T043453
CREATED:20231218T224205Z
LAST-MODIFIED:20231218T224205Z
UID:33761-1710327600-1710331200@support.topproducer.com
SUMMARY:Mastering Your Top Producer CRM: Expert Live Coaching Session
DESCRIPTION:How does an hour with 2 of our top-rated Customer Success specialists sound? Join Heather and Glen for an interactive session to help you get ROI from your CRM. They’ll cover: \n⦁ The essential areas you need to set up\n⦁ Key features & automation you won’t want to live without \nAnd more. They’ll also answer any questions you bring to the table. Glen & Heather are not only product experts\, they’re excited to help you succeed with our products! \nRegister now: https://topproducer.zoom.us/webinar/register/WN_EIOwXgifSECT8JJRGp7R3w
URL:https://support.topproducer.com/event/mastering-your-top-producer-crm-expert-live-coaching-session-3/
END:VEVENT
BEGIN:VEVENT
DTSTART;TZID=America/Vancouver:20240321T100000
DTEND;TZID=America/Vancouver:20240321T110000
DTSTAMP:20260425T043453
CREATED:20240318T221228Z
LAST-MODIFIED:20240318T221228Z
UID:33799-1711015200-1711018800@support.topproducer.com
SUMMARY:3-Step Strategy To Win the 2024 Spring Market
DESCRIPTION:Want the blueprint for getting more business in the 2024 spring market? Join us for a FREE webinar on Thursday\, March 21st @ 10am PST / 1pm EST to learn:\n🌷 Market insights to help get buyers & sellers off the fence this spring \n🎯 Targeted spring campaigns to spark conversations with everyone in your pipeline \n⚙️ Ways to use technology to save time during this busy season \n✍ Free scripts & templates \nRegister now: https://topproducer.zoom.us/webinar/register/7617103672884/WN_6ZkKYdmoQ8mHM2tW4VyYYQ
URL:https://support.topproducer.com/event/3-step-strategy-to-win-the-2024-spring-market/
END:VEVENT
BEGIN:VEVENT
DTSTART;TZID=America/Vancouver:20240327T110000
DTEND;TZID=America/Vancouver:20240327T120000
DTSTAMP:20260425T043453
CREATED:20231218T224854Z
LAST-MODIFIED:20231218T224854Z
UID:33773-1711537200-1711540800@support.topproducer.com
SUMMARY:Mastering Your Top Producer CRM: Expert Live Coaching Session
DESCRIPTION:How does an hour with 2 of our top-rated Customer Success specialists sound? Join Heather and Glen for an interactive session to help you get ROI from your CRM. They’ll cover: \n⦁ The essential areas you need to set up\n⦁ Key features & automation you won’t want to live without \nAnd more. They’ll also answer any questions you bring to the table. Glen & Heather are not only product experts\, they’re excited to help you succeed with our products! \nRegister now: https://topproducer.zoom.us/webinar/register/WN_L3IvOf-ZTH2ZSi4Gljjnhw
URL:https://support.topproducer.com/event/mastering-your-top-producer-crm-expert-live-coaching-session-15/
END:VEVENT
END:VCALENDAR