BEGIN:VCALENDAR
VERSION:2.0
PRODID:-//Top Producer Support - ECPv6.15.20//NONSGML v1.0//EN
CALSCALE:GREGORIAN
METHOD:PUBLISH
X-WR-CALNAME:Top Producer Support
X-ORIGINAL-URL:https://support.topproducer.com
X-WR-CALDESC:Events for Top Producer Support
REFRESH-INTERVAL;VALUE=DURATION:PT1H
X-Robots-Tag:noindex
X-PUBLISHED-TTL:PT1H
BEGIN:VTIMEZONE
TZID:America/Vancouver
BEGIN:DAYLIGHT
TZOFFSETFROM:-0800
TZOFFSETTO:-0700
TZNAME:PDT
DTSTART:20220313T100000
END:DAYLIGHT
BEGIN:STANDARD
TZOFFSETFROM:-0700
TZOFFSETTO:-0800
TZNAME:PST
DTSTART:20221106T090000
END:STANDARD
BEGIN:DAYLIGHT
TZOFFSETFROM:-0800
TZOFFSETTO:-0700
TZNAME:PDT
DTSTART:20230312T100000
END:DAYLIGHT
BEGIN:STANDARD
TZOFFSETFROM:-0700
TZOFFSETTO:-0800
TZNAME:PST
DTSTART:20231105T090000
END:STANDARD
BEGIN:DAYLIGHT
TZOFFSETFROM:-0800
TZOFFSETTO:-0700
TZNAME:PDT
DTSTART:20240310T100000
END:DAYLIGHT
BEGIN:STANDARD
TZOFFSETFROM:-0700
TZOFFSETTO:-0800
TZNAME:PST
DTSTART:20241103T090000
END:STANDARD
END:VTIMEZONE
BEGIN:VEVENT
DTSTART;TZID=America/Vancouver:20230804T100000
DTEND;TZID=America/Vancouver:20230804T110000
DTSTAMP:20260424T114722
CREATED:20230328T153029Z
LAST-MODIFIED:20230328T153029Z
UID:33561-1691143200-1691146800@support.topproducer.com
SUMMARY:Getting Started with Top Producer X CRM
DESCRIPTION:Join us to learn how to Get Started with Top Producer X CRM! We will be covering all the important things to set up\, and what to get started with to get the most out of your CRM. \nRegister now: https://topproducer.zoom.us/webinar/register/WN_Y6saniNHS7ekhDPAum9IsA \nAdd to your calendar: +Google Calendar +iCal Export
URL:https://support.topproducer.com/event/getting-started-with-top-producer-x-crm-124/
END:VEVENT
BEGIN:VEVENT
DTSTART;TZID=America/Vancouver:20230811T100000
DTEND;TZID=America/Vancouver:20230811T110000
DTSTAMP:20260424T114722
CREATED:20230328T153432Z
LAST-MODIFIED:20230328T155416Z
UID:33567-1691748000-1691751600@support.topproducer.com
SUMMARY:4 things you'll want to know after you set up Top Producer X CRM
DESCRIPTION:Join us to learn 4 things you’ll want to know after you set up Top Producer X CRM. \nFrom how to tag your contacts to tracking who’s opening your emails\, we’ve got you covered. \nRegister now: https://topproducer.zoom.us/webinar/register/WN_AeRimWb1Qf6QXNwOGitCkw \nAdd to your calendar: +Google Calendar +iCal Export
URL:https://support.topproducer.com/event/4-things-youll-want-to-know-after-you-set-up-top-producer-x-crm-84/
END:VEVENT
BEGIN:VEVENT
DTSTART;TZID=America/Vancouver:20230817T100000
DTEND;TZID=America/Vancouver:20230817T110000
DTSTAMP:20260424T114722
CREATED:20230802T215506Z
LAST-MODIFIED:20230802T215506Z
UID:33677-1692266400-1692270000@support.topproducer.com
SUMMARY:Social Media Lead Generation Ideas
DESCRIPTION:Wondering how to use social media for lead generation? Join us on Thursday\, August 17th @ 10am PST / 1pm EST to get: \n– Ad best practices to attract more leads\n– Unique and fresh post ideas + examples\n– The lowdown on Facebook restrictions\, and more \nRegister now: https://topproducer.zoom.us/webinar/register/9816908447122/WN_AUH0NQcFQee1hSH2jk041A \nAdd to your calendar: +Google Calendar +iCal Export
URL:https://support.topproducer.com/event/social-media-lead-generation-ideas/
END:VEVENT
BEGIN:VEVENT
DTSTART;TZID=America/Vancouver:20230818T100000
DTEND;TZID=America/Vancouver:20230818T110000
DTSTAMP:20260424T114722
CREATED:20230328T152728Z
LAST-MODIFIED:20230328T152728Z
UID:33555-1692352800-1692356400@support.topproducer.com
SUMMARY:Getting Started with Top Producer X CRM
DESCRIPTION:Join us to learn how to Get Started with Top Producer X CRM! We will be covering all the important things to set up\, and what to get started with to get the most out of your CRM. \nRegister now: https://topproducer.zoom.us/webinar/register/WN_fCZRQHnaS6GLh6W7XGqHOw \nAdd to your calendar: +Google Calendar +iCal Export
URL:https://support.topproducer.com/event/getting-started-with-top-producer-x-crm-113/
END:VEVENT
BEGIN:VEVENT
DTSTART;TZID=America/Vancouver:20230823T100000
DTEND;TZID=America/Vancouver:20230823T110000
DTSTAMP:20260424T114722
CREATED:20230328T154329Z
LAST-MODIFIED:20230328T154329Z
UID:33579-1692784800-1692788400@support.topproducer.com
SUMMARY:Benefits of Upgrading to X From 8i
DESCRIPTION:Join us for a look at the benefits of using X and what you need to know in order to upgrade. \nRegister now: https://topproducer.zoom.us/webinar/register/WN_kIzkKvIUTcefIZ47zt8KdA \nAdd to your calendar: +Google Calendar +iCal Export
URL:https://support.topproducer.com/event/benefits-of-upgrading-to-x-from-8i-2/
END:VEVENT
BEGIN:VEVENT
DTSTART;TZID=America/Vancouver:20230825T100000
DTEND;TZID=America/Vancouver:20230825T110000
DTSTAMP:20260424T114722
CREATED:20230328T153849Z
LAST-MODIFIED:20230328T153849Z
UID:33572-1692957600-1692961200@support.topproducer.com
SUMMARY:Top Producer X Setup (for 8i users)
DESCRIPTION:Join us for a walkthrough on how to move and setup from 8i to X! \nRegister now: https://topproducer.zoom.us/webinar/register/WN_TqjWKAsOTm-VCwnHrUxzOg \nAdd to your calendar: +Google Calendar +iCal Export
URL:https://support.topproducer.com/event/top-producer-x-setup-for-8i-users/
END:VEVENT
END:VCALENDAR