BEGIN:VCALENDAR
VERSION:2.0
PRODID:-//Top Producer Support - ECPv6.15.20//NONSGML v1.0//EN
CALSCALE:GREGORIAN
METHOD:PUBLISH
X-WR-CALNAME:Top Producer Support
X-ORIGINAL-URL:https://support.topproducer.com
X-WR-CALDESC:Events for Top Producer Support
REFRESH-INTERVAL;VALUE=DURATION:PT1H
X-Robots-Tag:noindex
X-PUBLISHED-TTL:PT1H
BEGIN:VTIMEZONE
TZID:America/Vancouver
BEGIN:DAYLIGHT
TZOFFSETFROM:-0800
TZOFFSETTO:-0700
TZNAME:PDT
DTSTART:20210314T100000
END:DAYLIGHT
BEGIN:STANDARD
TZOFFSETFROM:-0700
TZOFFSETTO:-0800
TZNAME:PST
DTSTART:20211107T090000
END:STANDARD
BEGIN:DAYLIGHT
TZOFFSETFROM:-0800
TZOFFSETTO:-0700
TZNAME:PDT
DTSTART:20220313T100000
END:DAYLIGHT
BEGIN:STANDARD
TZOFFSETFROM:-0700
TZOFFSETTO:-0800
TZNAME:PST
DTSTART:20221106T090000
END:STANDARD
BEGIN:DAYLIGHT
TZOFFSETFROM:-0800
TZOFFSETTO:-0700
TZNAME:PDT
DTSTART:20230312T100000
END:DAYLIGHT
BEGIN:STANDARD
TZOFFSETFROM:-0700
TZOFFSETTO:-0800
TZNAME:PST
DTSTART:20231105T090000
END:STANDARD
END:VTIMEZONE
BEGIN:VEVENT
DTSTART;TZID=America/Vancouver:20220831T100000
DTEND;TZID=America/Vancouver:20220831T110000
DTSTAMP:20260423T014857
CREATED:20220804T164141Z
LAST-MODIFIED:20220804T164141Z
UID:33296-1661940000-1661943600@support.topproducer.com
SUMMARY:Smarter real estate farming with AI
DESCRIPTION:Join us on August 31st and learn how Smart Targeting helps you dominate your real estate farm with the help of AI-driven analytics and automated marketing solutions. \nRegister now: https://topproducer.zoom.us/webinar/register/WN_6aXkh3zeR8mZ5BkvKh0gPg \nAdd to your calendar: +Google Calendar +iCal Export
URL:https://support.topproducer.com/event/smarter-real-estate-farming-with-ai/
END:VEVENT
END:VCALENDAR