BEGIN:VCALENDAR
VERSION:2.0
PRODID:-//Top Producer Support - ECPv6.15.20//NONSGML v1.0//EN
CALSCALE:GREGORIAN
METHOD:PUBLISH
X-WR-CALNAME:Top Producer Support
X-ORIGINAL-URL:https://support.topproducer.com
X-WR-CALDESC:Events for Top Producer Support
REFRESH-INTERVAL;VALUE=DURATION:PT1H
X-Robots-Tag:noindex
X-PUBLISHED-TTL:PT1H
BEGIN:VTIMEZONE
TZID:America/Vancouver
BEGIN:DAYLIGHT
TZOFFSETFROM:-0800
TZOFFSETTO:-0700
TZNAME:PDT
DTSTART:20210314T100000
END:DAYLIGHT
BEGIN:STANDARD
TZOFFSETFROM:-0700
TZOFFSETTO:-0800
TZNAME:PST
DTSTART:20211107T090000
END:STANDARD
BEGIN:DAYLIGHT
TZOFFSETFROM:-0800
TZOFFSETTO:-0700
TZNAME:PDT
DTSTART:20220313T100000
END:DAYLIGHT
BEGIN:STANDARD
TZOFFSETFROM:-0700
TZOFFSETTO:-0800
TZNAME:PST
DTSTART:20221106T090000
END:STANDARD
BEGIN:DAYLIGHT
TZOFFSETFROM:-0800
TZOFFSETTO:-0700
TZNAME:PDT
DTSTART:20230312T100000
END:DAYLIGHT
BEGIN:STANDARD
TZOFFSETFROM:-0700
TZOFFSETTO:-0800
TZNAME:PST
DTSTART:20231105T090000
END:STANDARD
END:VTIMEZONE
BEGIN:VEVENT
DTSTART;TZID=America/Vancouver:20220713T100000
DTEND;TZID=America/Vancouver:20220713T110000
DTSTAMP:20260420T075420
CREATED:20220707T173312Z
LAST-MODIFIED:20220707T173312Z
UID:33207-1657706400-1657710000@support.topproducer.com
SUMMARY:NEW! Lead Response Plan in Top Producer X CRM
DESCRIPTION:From the quick setup to how you can customize the initial lead experience like never before\, you won’t want to miss this! \nRegister now: https://topproducer.zoom.us/webinar/register/WN_JJduJgUSTKmI4siFTZp_uw \nAdd to your calendar: +Google Calendar +iCal Export
URL:https://support.topproducer.com/event/new-lead-response-plan-in-top-producer-x-crm/
END:VEVENT
END:VCALENDAR