BEGIN:VCALENDAR
VERSION:2.0
PRODID:-//Top Producer Support - ECPv6.15.20//NONSGML v1.0//EN
CALSCALE:GREGORIAN
METHOD:PUBLISH
X-WR-CALNAME:Top Producer Support
X-ORIGINAL-URL:https://support.topproducer.com
X-WR-CALDESC:Events for Top Producer Support
REFRESH-INTERVAL;VALUE=DURATION:PT1H
X-Robots-Tag:noindex
X-PUBLISHED-TTL:PT1H
BEGIN:VTIMEZONE
TZID:America/Vancouver
BEGIN:DAYLIGHT
TZOFFSETFROM:-0800
TZOFFSETTO:-0700
TZNAME:PDT
DTSTART:20220313T100000
END:DAYLIGHT
BEGIN:STANDARD
TZOFFSETFROM:-0700
TZOFFSETTO:-0800
TZNAME:PST
DTSTART:20221106T090000
END:STANDARD
BEGIN:DAYLIGHT
TZOFFSETFROM:-0800
TZOFFSETTO:-0700
TZNAME:PDT
DTSTART:20230312T100000
END:DAYLIGHT
BEGIN:STANDARD
TZOFFSETFROM:-0700
TZOFFSETTO:-0800
TZNAME:PST
DTSTART:20231105T090000
END:STANDARD
BEGIN:DAYLIGHT
TZOFFSETFROM:-0800
TZOFFSETTO:-0700
TZNAME:PDT
DTSTART:20240310T100000
END:DAYLIGHT
BEGIN:STANDARD
TZOFFSETFROM:-0700
TZOFFSETTO:-0800
TZNAME:PST
DTSTART:20241103T090000
END:STANDARD
END:VTIMEZONE
BEGIN:VEVENT
DTSTART;TZID=America/Vancouver:20230518T100000
DTEND;TZID=America/Vancouver:20230518T110000
DTSTAMP:20260420T134202
CREATED:20230511T185626Z
LAST-MODIFIED:20230511T185626Z
UID:33600-1684404000-1684407600@support.topproducer.com
SUMMARY:Grow Your Database With Quality Leads From Social Media
DESCRIPTION:Join us on May 18th at 10am PST / 1pm EST to learn how affordable and proven online advertising and automated lead nurture can help grow your database & close more deals.  \nRegister now: https://topproducer.zoom.us/webinar/register/5516837602089/WN_CS9BEOpfT7KqNZ7GUrJuIg \nAdd to your calendar: +Google Calendar +iCal Export
URL:https://support.topproducer.com/event/grow-your-database-with-quality-leads-from-social-media/
END:VEVENT
END:VCALENDAR